BEGIN:VCALENDAR
VERSION:2.0
PRODID:DPCALENDAR
CALSCALE:GREGORIAN
X-WR-TIMEZONE:UTC
BEGIN:VEVENT
DTSTART;VALUE=DATE:20240309
DTEND;VALUE=DATE:20240310
UID:97902a5f1e8a6fdc22423054fd016d87
SUMMARY:Landesdelegiertentagung
DTSTAMP:20260421T084616Z
DESCRIPTION:
X-ALT-DESC;FMTTYPE=text/html:
X-ACCESS:1
X-MODIFIED:20260421T084616Z
X-HITS:0
X-URL:https://www.google.com/calendar/event?eid=NmxnajBwOWg2MHNqMmI5bzY0cTZhYjlrY2dvajRiOW9jNWltNGI5ZzY4cmphY3BsYzhvajZjMzRjNCBwaGo2YzdwMnZkMjhrYWhyZ2E5NGxmNWcxOEBn
X-COLOR:
END:VEVENT
END:VCALENDAR